BEGIN:VCALENDAR
VERSION:2.0
PRODID:-//Squarespace Inc/Squarespace 6//v6//EN
BEGIN:VEVENT
UID:5b123597758d46e0d01c2bd6@squarespace.com
DTSTAMP:20180602T061647Z
DTSTART:20181014T230000Z
DTEND:20181015T000000Z
SUMMARY:King Lion Hall
GEO:-41.227827;174.879441
LOCATION:King Lion Hall\, 12 King Street\, Upper Hutt\, New Zealand
END:VEVENT
END:VCALENDAR
