BEGIN:VCALENDAR
VERSION:2.0
PRODID:-//Squarespace Inc/Squarespace 6//v6//EN
BEGIN:VEVENT
UID:5b122ee3562fa79a8403ab80@squarespace.com
DTSTAMP:20180602T055356Z
DTSTART:20180826T230000Z
DTEND:20180827T000000Z
SUMMARY:Kapiti Community Centre
GEO:-40.913968;175.002611
LOCATION:Kapiti Community Centre\, 15 Ngahina Street\, Paraparaumu\, Wellin
 gton\, 5032\, New Zealand
END:VEVENT
END:VCALENDAR
