BEGIN:VCALENDAR
VERSION:2.0
PRODID:-//Squarespace Inc/Squarespace 6//v6//EN
BEGIN:VEVENT
UID:56dbae0b59827e888a9502ba@squarespace.com
DTSTAMP:20180602T054507Z
DTSTART:20180701T140000Z
DTEND:20180701T150000Z
SUMMARY:Russell Keown House
GEO:-41.21107;174.902323
LOCATION:Russell Keown House\, 1 Knight Road\, Lower Hutt\, New Zealand
END:VEVENT
END:VCALENDAR
