BEGIN:VCALENDAR
VERSION:2.0
PRODID:-//Squarespace Inc/Squarespace 6//v6//EN
BEGIN:VEVENT
UID:5a765147085229a61649d51f@squarespace.com
DTSTAMP:20180602T030943Z
DTSTART:20180713T223000Z
DTEND:20180714T010000Z
SUMMARY: Kings Lion Hall Upper Hutt
GEO:-41.122958;175.075198
LOCATION:King Lion Hall\, 12 King Street\, Upper Hutt\, Wellington\, 5018\, 
 New Zealand
END:VEVENT
END:VCALENDAR
