BEGIN:VCALENDAR
VERSION:2.0
PRODID:-//Squarespace Inc/Squarespace 6//v6//EN
BEGIN:VEVENT
UID:5b12041e70a6add182bcef51@squarespace.com
DTSTAMP:20180815T025121Z
DTSTART:20181027T140000Z
DTEND:20181027T200000Z
SUMMARY:Waikanae Memorial Hall
GEO:-40.875413;175.06746
LOCATION:Waikanae Memorial Hall\, Pehi Kupa Street\, Waikanae\, Wellington\
 , 5036\, New Zealand
END:VEVENT
END:VCALENDAR
