BEGIN:VCALENDAR
VERSION:2.0
PRODID:-//Squarespace Inc/Squarespace 6//v6//EN
BEGIN:VEVENT
UID:5b120227f950b774c0971b25@squarespace.com
DTSTAMP:20180602T023726Z
DTSTART:20180811T140000Z
DTEND:20180811T200000Z
SUMMARY:Wainuiomata Community Centre
GEO:-41.261485;174.946207
LOCATION:Wainuiomata Community Centre\, 1A Queen Street\, Lower Hutt\, Well
 ington\, 5014\, New Zealand
END:VEVENT
END:VCALENDAR
