BEGIN:VCALENDAR
VERSION:2.0
PRODID:-//Squarespace Inc/Squarespace 6//v6//EN
BEGIN:VEVENT
UID:5b7396af352f53754ada56f9@squarespace.com
DTSTAMP:20180815T030359Z
DTSTART:20181208T150000Z
DTEND:20181208T210000Z
SUMMARY:Paraparaumu Memorial Hall
GEO:-40.908918;175.009158
LOCATION:Paraparaumu Memorial Hall\, Tutanekai Street\, Paraparaumu\, Welli
 ngton\, 5032\, New Zealand
END:VEVENT
END:VCALENDAR
