BEGIN:VCALENDAR
VERSION:2.0
PRODID:-//Squarespace Inc/Squarespace 6//v6//EN
BEGIN:VEVENT
UID:5b1205666d2a732a4b40f016@squarespace.com
DTSTAMP:20180815T025751Z
DTSTART:20181110T150000Z
DTEND:20181110T210000Z
SUMMARY:Upper Hutt Cossie Club
GEO:-41.122184;175.071795
LOCATION:Upper Hutt Cosmopolitan Club\, 11 Logan Street\, Upper Hutt\, Well
 ington\, 5018\, New Zealand
END:VEVENT
END:VCALENDAR
