BEGIN:VCALENDAR
VERSION:2.0
PRODID:-//Squarespace Inc/Squarespace 6//v6//EN
BEGIN:VEVENT
UID:5a764d83c830259c53ae20f4@squarespace.com
DTSTAMP:20180602T024806Z
DTSTART:20180616T140000Z
DTEND:20180616T200000Z
SUMMARY: Upper Hutt Cossie Club
GEO:-41.122184;175.071795
LOCATION:Upper Hutt Cosmopolitan Club\, 11 Logan Street\, Upper Hutt\, Well
 ington\, 5018\, New Zealand
END:VEVENT
END:VCALENDAR
