BEGIN:VCALENDAR
VERSION:2.0
PRODID:-//Squarespace Inc/Squarespace 6//v6//EN
BEGIN:VEVENT
UID:5c1d8a2b70a6ad49a49cfa40@squarespace.com
DTSTAMP:20181222T010413Z
DTSTART:20190119T150000Z
DTEND:20190119T210000Z
SUMMARY:Levin Cosmopolitan Club
GEO:-40.630241;175.277951
LOCATION:Levin Cosmopolitan Club\, 47 Oxford Street\, Levin\, Manawatu-Wang
 anui\, 5510\, New Zealand
END:VEVENT
END:VCALENDAR
