BEGIN:VCALENDAR
VERSION:2.0
PRODID:-//Squarespace Inc/Squarespace 6//v6//EN
BEGIN:VEVENT
UID:5b1203688a922d811f9fa5d0@squarespace.com
DTSTAMP:20180813T074449Z
DTSTART:20180923T140000Z
DTEND:20180923T200000Z
SUMMARY:Palmerston North Cossie Club
GEO:-40.359531;175.609698
LOCATION:Palmerston North Cosmopolitan Club\, 22 Linton Street\, Palmerston 
 North\, Manawatu-Wanganui\, 4410\, New Zealand
END:VEVENT
END:VCALENDAR
