BEGIN:VCALENDAR
VERSION:2.0
PRODID:-//Squarespace Inc/Squarespace 6//v6//EN
BEGIN:VEVENT
UID:5a754ad5f9619a31bdf88651@squarespace.com
DTSTAMP:20181222T004946Z
DTSTART:20180714T140000Z
DTEND:20180714T200000Z
SUMMARY:Levin Cossie Club
GEO:-40.630241;175.277951
LOCATION:Levin Cosmopolitan Club\, 47 Oxford Street\, Levin\, Manawatu-Wang
 anui\, 5510\, New Zealand
END:VEVENT
END:VCALENDAR
