BEGIN:VCALENDAR
VERSION:2.0
PRODID:-//Squarespace Inc/Squarespace 6//v6//EN
BEGIN:VEVENT
UID:5b6678d2575d1f9e8aad7e59@squarespace.com
DTSTAMP:20180902T015800Z
DTSTART:20180928T224500Z
DTEND:20180929T010000Z
SUMMARY:Communication For The Soul
GEO:-41.21292;174.891649
LOCATION:Hutt Central School\, 6 Railway Avenue\, Lower Hutt\, Wellington\, 
 5010\, New Zealand
END:VEVENT
END:VCALENDAR
