BEGIN:VCALENDAR
VERSION:2.0
PRODID:-//Squarespace Inc/Squarespace 6//v6//EN
BEGIN:VEVENT
UID:5b56b29a6d2a732d896430d6@squarespace.com
DTSTAMP:20180902T061835Z
DTSTART:20181207T234500Z
DTEND:20181208T020000Z
SUMMARY:Communication For The Soul
GEO:-41.122958;175.075198
LOCATION:King Lion Hall\, 12 King Street\, Upper Hutt\, Wellington\, 5018\, 
 New Zealand
END:VEVENT
END:VCALENDAR
