BEGIN:VCALENDAR
VERSION:2.0
PRODID:-//Squarespace Inc/Squarespace 6//v6//EN
BEGIN:VEVENT
UID:5b56ae4eaa4a997ca1c74832@squarespace.com
DTSTAMP:20180902T043747Z
DTSTART:20181116T234500Z
DTEND:20181117T020000Z
SUMMARY:Communication For The Soul
GEO:-41.284921;174.737527
LOCATION:Karori Recreation Centre\, 251 Karori Road\, Wellington\, Wellingt
 on\, 6012\, New Zealand
END:VEVENT
END:VCALENDAR
