BEGIN:VCALENDAR
VERSION:2.0
PRODID:-//Squarespace Inc/Squarespace 6//v6//EN
BEGIN:VEVENT
UID:5b56b04988251b7126110cb6@squarespace.com
DTSTAMP:20180902T053937Z
DTSTART:20181123T234500Z
DTEND:20181124T020000Z
SUMMARY:Communication For The Soul
GEO:-41.261747;174.944884
LOCATION:Wainuiomata Community Centre\, 1A Queen Street\, Lower Hutt\, Well
 ington\, 5014\, New Zealand
END:VEVENT
END:VCALENDAR
