BEGIN:VCALENDAR
VERSION:2.0
PRODID:-//Squarespace Inc/Squarespace 6//v6//EN
BEGIN:VEVENT
UID:5b567ad3575d1fb3afb9d4c7@squarespace.com
DTSTAMP:20180902T042648Z
DTSTART:20181026T224500Z
DTEND:20181027T010000Z
SUMMARY:Communication For The Soul
GEO:-41.319132;174.794219
LOCATION:Kilbirnie Community Centre\, 56/58 Bay Road\, Wellington\, Welling
 ton\, 6022\, New Zealand
END:VEVENT
END:VCALENDAR
