BEGIN:VCALENDAR
VERSION:2.0
PRODID:-//Squarespace Inc/Squarespace 6//v6//EN
BEGIN:VEVENT
UID:5b56774d1ae6cf85cd324968@squarespace.com
DTSTAMP:20180902T041404Z
DTSTART:20181012T224500Z
DTEND:20181013T010000Z
SUMMARY:Communication For The Soul
GEO:-41.222945;174.821884
LOCATION:Newlands Community Centre\, 9 Batchelor Street\, Wellington\, Well
 ington\, 6037\, New Zealand
END:VEVENT
END:VCALENDAR
