BEGIN:VCALENDAR
VERSION:2.0
PRODID:-//Squarespace Inc/Squarespace 6//v6//EN
BEGIN:VEVENT
UID:5b567552562fa765b75371f2@squarespace.com
DTSTAMP:20180724T004813Z
DTSTART:20180831T224500Z
DTEND:20180901T010000Z
SUMMARY:Communication For The Soul
GEO:-40.908918;175.009158
LOCATION:Paraparaumu Memorial Hall\, Tutanekai Street\, Paraparaumu\, Welli
 ngton\, 5032\, New Zealand
END:VEVENT
END:VCALENDAR
