BEGIN:VCALENDAR
VERSION:2.0
PRODID:-//Squarespace Inc/Squarespace 6//v6//EN
BEGIN:VEVENT
UID:5b7399834ae237baa7851b5e@squarespace.com
DTSTAMP:20180902T063951Z
DTSTART:20181215T234500Z
DTEND:20181216T020000Z
SUMMARY:Communication For The Soul
GEO:-41.317971;174.817296
LOCATION:Miramar Community Centre\, 27 Chelsea Street\, Wellington\, Wellin
 gton\, 6022\, New Zealand
END:VEVENT
END:VCALENDAR
