BEGIN:VCALENDAR
VERSION:2.0
PRODID:-//Squarespace Inc/Squarespace 6//v6//EN
BEGIN:VEVENT
UID:5b697ce470a6add62b1a03b6@squarespace.com
DTSTAMP:20180902T063024Z
DTSTART:20181208T234500Z
DTEND:20181209T020000Z
SUMMARY:Communication For The Soul
GEO:-41.334484;174.774048
LOCATION:Island Bay Community Centre\, 137 The Parade\, Wellington\, Wellin
 gton\, 6023\, New Zealand
END:VEVENT
END:VCALENDAR
