BEGIN:VCALENDAR
VERSION:2.0
PRODID:-//Squarespace Inc/Squarespace 6//v6//EN
BEGIN:VEVENT
UID:5b6677ed6d2a73ce52fc4701@squarespace.com
DTSTAMP:20180830T023106Z
DTSTART:20180914T224500Z
DTEND:20180915T010000Z
SUMMARY:Communication For The Soul
GEO:-40.955154;175.653491
LOCATION:Masterton YMCA\, 371 Queen Street\, Masterton\, Wellington\, 5810\
 , New Zealand
END:VEVENT
END:VCALENDAR
