BEGIN:VCALENDAR
VERSION:2.0
PRODID:-//Squarespace Inc/Squarespace 6//v6//EN
BEGIN:VEVENT
UID:5b5672972b6a282123b1d3d2@squarespace.com
DTSTAMP:20180724T004659Z
DTSTART:20180824T224500Z
DTEND:20180825T010000Z
SUMMARY:Communication For The Soul
GEO:-41.317798;174.777964
LOCATION:Newtown Community & Cultural Centre\, Rintoul Street\, Wellington\
 , Wellington\, New Zealand
END:VEVENT
END:VCALENDAR
