BEGIN:VCALENDAR
VERSION:2.0
PRODID:-//Squarespace Inc/Squarespace 6//v6//EN
BEGIN:VEVENT
UID:5b123acd1ae6cf4e9025e0e9@squarespace.com
DTSTAMP:20180725T231300Z
DTSTART:20181120T000000Z
DTEND:20181120T020000Z
SUMMARY:Wainuiomata Community Centre
GEO:-41.298217;174.797101
LOCATION:Wainuiomata Community Centre\, 1A Queen Street\, Lower Hutt\, Well
 ington\, 5014\, New Zealand
END:VEVENT
END:VCALENDAR
