BEGIN:VCALENDAR
VERSION:2.0
PRODID:-//Squarespace Inc/Squarespace 6//v6//EN
BEGIN:VEVENT
UID:5b12369388251bde851d13d9@squarespace.com
DTSTAMP:20180725T231323Z
DTSTART:20181015T230000Z
DTEND:20181016T010000Z
SUMMARY:Wainuiomata Community Centre
GEO:-41.298217;174.797101
LOCATION:Wainuiomata Community Centre\, 1A Queen Street\, Lower Hutt\, Well
 ington\, 5014\, New Zealand
END:VEVENT
END:VCALENDAR
