BEGIN:VCALENDAR
VERSION:2.0
PRODID:-//Squarespace Inc/Squarespace 6//v6//EN
BEGIN:VEVENT
UID:5b122d106d2a73499b397c5d@squarespace.com
DTSTAMP:20180725T231357Z
DTSTART:20180820T230000Z
DTEND:20180821T010000Z
SUMMARY:Wainuiomata Community Centre
GEO:-41.298217;174.797101
LOCATION:Wainuiomata Community Centre\, 1A Queen Street\, Lower Hutt\, Well
 ington\, 5014\, New Zealand
END:VEVENT
END:VCALENDAR
