BEGIN:VCALENDAR
VERSION:2.0
PRODID:-//Squarespace Inc/Squarespace 6//v6//EN
BEGIN:VEVENT
UID:5a769074f9619a31bd2edf06@squarespace.com
DTSTAMP:20180725T230934Z
DTSTART:20181207T000000Z
DTEND:20181207T020000Z
SUMMARY:Marewa Road Hataitai
GEO:-41.298217;174.797101
LOCATION:GKS HOLISM LTD\, 68 Marewa Road\, Hataitai\, New Zealand
END:VEVENT
END:VCALENDAR
