BEGIN:VCALENDAR
VERSION:2.0
PRODID:-//Squarespace Inc/Squarespace 6//v6//EN
BEGIN:VEVENT
UID:5a7689638165f51a341e6568@squarespace.com
DTSTAMP:20180725T230021Z
DTSTART:20180906T230000Z
DTEND:20180907T010000Z
SUMMARY:Marewa Road Hataitai
GEO:-41.298217;174.797101
LOCATION:GKS HOLISM LTD\, 68 Marewa Road\, Hataitai\, New Zealand
END:VEVENT
END:VCALENDAR
