BEGIN:VCALENDAR
VERSION:2.0
PRODID:-//Squarespace Inc/Squarespace 6//v6//EN
BEGIN:VEVENT
UID:5a76892e71c10bcbfb6922ab@squarespace.com
DTSTAMP:20180725T230650Z
DTSTART:20181101T230000Z
DTEND:20181102T010000Z
SUMMARY:Marewa Road Hataitai
GEO:-41.298217;174.797101
LOCATION:GKS HOLISM LTD\, 68 Marewa Road\, Hataitai\, New Zealand
END:VEVENT
END:VCALENDAR
