BEGIN:VCALENDAR
VERSION:2.0
PRODID:-//Squarespace Inc/Squarespace 6//v6//EN
BEGIN:VEVENT
UID:5a76b6e4e2c4831a61a0bb4a@squarespace.com
DTSTAMP:20180725T230904Z
DTSTART:20181127T000000Z
DTEND:20181127T020000Z
SUMMARY:Palmerston North Cossie Club
GEO:-40.359531;175.609698
LOCATION:Cosmopolitan Club\, 22 Linton Street\, Palmerston North\, Manawatu
 -Wanganui\, 4410\, New Zealand
END:VEVENT
END:VCALENDAR
