BEGIN:VCALENDAR
VERSION:2.0
PRODID:-//Squarespace Inc/Squarespace 6//v6//EN
BEGIN:VEVENT
UID:5a76b466e2c4831a61a07880@squarespace.com
DTSTAMP:20180725T225919Z
DTSTART:20180827T230000Z
DTEND:20180828T010000Z
SUMMARY:Palmerston North Cossie Club
GEO:-40.359531;175.609698
LOCATION:Cosmopolitan Club\, 22 Linton Street\, Palmerston North\, Manawatu
 -Wanganui\, 4410\, New Zealand
END:VEVENT
END:VCALENDAR
