BEGIN:VCALENDAR
VERSION:2.0
PRODID:-//Squarespace Inc/Squarespace 6//v6//EN
BEGIN:VEVENT
UID:5b59037af950b7844b1a369e@squarespace.com
DTSTAMP:20180725T231118Z
DTSTART:20181212T000000Z
DTEND:20181212T020000Z
SUMMARY:Otaki Memorial Hall
GEO:-40.752406;175.138674
LOCATION:Otaki Memorial Hall\, Main Street\, Otaki\, Wellington\, 5512\, Ne
 w Zealand
END:VEVENT
END:VCALENDAR
