BEGIN:VCALENDAR
VERSION:2.0
PRODID:-//Squarespace Inc/Squarespace 6//v6//EN
BEGIN:VEVENT
UID:5b59029a2b6a2898d536df65@squarespace.com
DTSTAMP:20180725T230739Z
DTSTART:20181114T000000Z
DTEND:20181114T020000Z
SUMMARY:Otaki Memorial Hall
GEO:-40.752406;175.138674
LOCATION:Otaki Memorial Hall\, Main Street\, Otaki\, Wellington\, 5512\, Ne
 w Zealand
END:VEVENT
END:VCALENDAR
