BEGIN:VCALENDAR
VERSION:2.0
PRODID:-//Squarespace Inc/Squarespace 6//v6//EN
BEGIN:VEVENT
UID:5b5901d9f950b7844b19f02e@squarespace.com
DTSTAMP:20180725T230439Z
DTSTART:20181009T230000Z
DTEND:20181010T010000Z
SUMMARY:Otaki Memorial Hall
GEO:-40.752406;175.138674
LOCATION:Otaki Memorial Hall\, Main Street\, Otaki\, Wellington\, 5512\, Ne
 w Zealand
END:VEVENT
END:VCALENDAR
