BEGIN:VCALENDAR
VERSION:2.0
PRODID:-//Squarespace Inc/Squarespace 6//v6//EN
BEGIN:VEVENT
UID:5b590111575d1f07aaf2fb5b@squarespace.com
DTSTAMP:20180725T230116Z
DTSTART:20180911T230000Z
DTEND:20180912T010000Z
SUMMARY:Otaki Memorial Hall
GEO:-40.752406;175.138674
LOCATION:Otaki Memorial Hall\, Main Street\, Otaki\, Wellington\, 5512\, Ne
 w Zealand
END:VEVENT
END:VCALENDAR
