BEGIN:VCALENDAR
VERSION:2.0
PRODID:-//Squarespace Inc/Squarespace 6//v6//EN
BEGIN:VEVENT
UID:5a76abf824a69434ae53d7f7@squarespace.com
DTSTAMP:20180725T230033Z
DTSTART:20180814T230000Z
DTEND:20180815T010000Z
SUMMARY:Otaki Memorial Hall
GEO:-40.752406;175.138674
LOCATION:Otaki Memorial Hall\, Main Street\, Otaki\, Wellington\, 5512\, Ne
 w Zealand
END:VEVENT
END:VCALENDAR
